BEGIN:VCALENDAR
VERSION:2.0
PRODID:DPCALENDAR
CALSCALE:GREGORIAN
BEGIN:VTIMEZONE
TZID:Europe/Amsterdam
BEGIN:STANDARD
DTSTART:20251026T010000
TZOFFSETFROM:+0200
TZOFFSETTO:+0100
TZNAME:CET
END:STANDARD
BEGIN:STANDARD
DTSTART:20261025T010000
TZOFFSETFROM:+0200
TZOFFSETTO:+0100
TZNAME:CET
END:STANDARD
BEGIN:DAYLIGHT
DTSTART:20260329T010000
TZOFFSETFROM:+0100
TZOFFSETTO:+0200
TZNAME:CEST
END:DAYLIGHT
END:VTIMEZONE
X-WR-TIMEZONE:Europe/Amsterdam
BEGIN:VEVENT
DTSTART;TZID=Europe/Amsterdam:20190703T200000
DTEND;TZID=Europe/Amsterdam:20190703T220000
RRULE:FREQ=WEEKLY;INTERVAL=1;UNTIL=20190703T235900Z
UID:F4C7BB19-1D61-4B85-9543-A300712F4252
SUMMARY:Kerkenraad
CREATED:20190503T104551Z
DTSTAMP:20190503T104551Z
URL:https://www.pniel.nl/agenda-activiteiten/kerkenraad
LOCATION:Ghandistraat 2\, Utrecht
GEO:52.02178035;5.57093866
X-LOCATION-DISPLAYNAME:Pniëlkerk
X-ACCESS:1
X-HITS:17
X-COLOR:bddc04
X-SHOW-END-TIME:0
END:VEVENT
BEGIN:VEVENT
DTSTART;TZID=Europe/Amsterdam:20190703T200000
DTEND;TZID=Europe/Amsterdam:20190703T220000
UID:F4C7BB19-1D61-4B85-9543-A300712F4252
RECURRENCE-ID:20190703T180000Z
SUMMARY:Kerkenraad
CREATED:20190503T104551Z
DTSTAMP:20190503T104551Z
URL:https://www.pniel.nl/agenda-activiteiten/kerkenraad-1562176800
DESCRIPTION:Lorum ipsum dolar. Envintum dolaris.
X-ALT-DESC;FMTTYPE=text/html:<p>Lorum ipsum dolar. Envintum dolaris.</p>
LAST-MODIFIED:20190519T152530Z
SEQUENCE:1399179
LOCATION:Ghandistraat 2\, Utrecht
GEO:52.02178035;5.57093866
X-LOCATION-DISPLAYNAME:Pniëlkerk
X-ACCESS:1
X-HITS:23
X-COLOR:bddc04
X-SHOW-END-TIME:0
END:VEVENT
END:VCALENDAR