BEGIN:VCALENDAR
VERSION:2.0
PRODID:DPCALENDAR
CALSCALE:GREGORIAN
BEGIN:VTIMEZONE
TZID:Europe/Amsterdam
BEGIN:STANDARD
DTSTART:20251026T010000
TZOFFSETFROM:+0200
TZOFFSETTO:+0100
TZNAME:CET
END:STANDARD
BEGIN:STANDARD
DTSTART:20261025T010000
TZOFFSETFROM:+0200
TZOFFSETTO:+0100
TZNAME:CET
END:STANDARD
BEGIN:DAYLIGHT
DTSTART:20260329T010000
TZOFFSETFROM:+0100
TZOFFSETTO:+0200
TZNAME:CEST
END:DAYLIGHT
END:VTIMEZONE
X-WR-TIMEZONE:Europe/Amsterdam
BEGIN:VEVENT
DTSTART;TZID=Europe/Amsterdam:20190626T200000
DTEND;TZID=Europe/Amsterdam:20190626T220000
UID:7A7ECAA6-6691-4004-8953-54060E1080C6
SUMMARY:Diaconie
CREATED:20190503T110042Z
DTSTAMP:20190503T110042Z
URL:https://www.pniel.nl/agenda-activiteiten/diaconie
LOCATION:Ghandistraat 2\, Utrecht
GEO:52.02178035;5.57093866
X-LOCATION-DISPLAYNAME:Pniëlkerk
X-ACCESS:1
X-HITS:23
X-COLOR:22a9c5
X-SHOW-END-TIME:1
END:VEVENT
END:VCALENDAR