BEGIN:VCALENDAR
VERSION:2.0
PRODID:DPCALENDAR
CALSCALE:GREGORIAN
BEGIN:VTIMEZONE
TZID:Europe/Amsterdam
BEGIN:STANDARD
DTSTART:20251026T010000
TZOFFSETFROM:+0200
TZOFFSETTO:+0100
TZNAME:CET
END:STANDARD
BEGIN:STANDARD
DTSTART:20261025T010000
TZOFFSETFROM:+0200
TZOFFSETTO:+0100
TZNAME:CET
END:STANDARD
BEGIN:DAYLIGHT
DTSTART:20260329T010000
TZOFFSETFROM:+0100
TZOFFSETTO:+0200
TZNAME:CEST
END:DAYLIGHT
END:VTIMEZONE
X-WR-TIMEZONE:Europe/Amsterdam
BEGIN:VEVENT
DTSTART;TZID=Europe/Amsterdam:20191031T194500
DTEND;TZID=Europe/Amsterdam:20191031T210000
UID:3230D04D-156A-4E89-A043-85AFD36E81E5
SUMMARY:Reformatieherdenking
CREATED:20190919T084630Z
DTSTAMP:20190919T084630Z
URL:https://www.pniel.nl/agenda-activiteiten/reformatieherdenking
DESCRIPTION:Gezamenlijke herdenking van De Reformatie, georganiseerd door de Hervormde Gemeenten, de Hersteld Hervormde Kerk en onze gemeente.
X-ALT-DESC;FMTTYPE=text/html:<p>Gezamenlijke herdenking van De Reformatie, georganiseerd door de Hervormde Gemeenten, de Hersteld Hervormde Kerk en onze gemeente.</p>
LAST-MODIFIED:20190919T204909Z
SEQUENCE:43359
LOCATION:Ghandistraat 2\, Utrecht
GEO:52.02178035;5.57093866
X-LOCATION-DISPLAYNAME:Pniëlkerk
X-ACCESS:1
X-HITS:122
X-COLOR:3366cc
X-SHOW-END-TIME:0
END:VEVENT
END:VCALENDAR