BEGIN:VCALENDAR
VERSION:2.0
PRODID:DPCALENDAR
CALSCALE:GREGORIAN
BEGIN:VTIMEZONE
TZID:Europe/Amsterdam
BEGIN:STANDARD
DTSTART:20251026T010000
TZOFFSETFROM:+0200
TZOFFSETTO:+0100
TZNAME:CET
END:STANDARD
BEGIN:STANDARD
DTSTART:20261025T010000
TZOFFSETFROM:+0200
TZOFFSETTO:+0100
TZNAME:CET
END:STANDARD
BEGIN:DAYLIGHT
DTSTART:20260329T010000
TZOFFSETFROM:+0100
TZOFFSETTO:+0200
TZNAME:CEST
END:DAYLIGHT
END:VTIMEZONE
X-WR-TIMEZONE:Europe/Amsterdam
BEGIN:VEVENT
DTSTART;TZID=Europe/Amsterdam:20191002T140000
DTEND;TZID=Europe/Amsterdam:20191002T213000
UID:A5AC056D-C005-4253-9F6D-F42E9966A7E9
SUMMARY:Bazar
CREATED:20190930T174209Z
DTSTAMP:20190930T174209Z
URL:https://www.pniel.nl/agenda-activiteiten/bazar
DESCRIPTION:Zie ons 'nieuws' voor meer informatie.
X-ALT-DESC;FMTTYPE=text/html:<p>Zie ons 'nieuws' voor meer informatie.</p>
LOCATION:Ghandistraat 2\, Utrecht
GEO:52.02178035;5.57093866
X-LOCATION-DISPLAYNAME:Pniëlkerk
X-ACCESS:1
X-HITS:27
X-COLOR:3366cc
X-SHOW-END-TIME:0
END:VEVENT
END:VCALENDAR